BEGIN:VCALENDAR
VERSION:2.0
PRODID:-//Sabre//Sabre VObject 4.5.8//EN
CALSCALE:GREGORIAN
BEGIN:VEVENT
UID:sabre-vobject-380d6525-1a26-4ee2-89e2-0127c4b3472b
DTSTAMP:20260425T000552Z
SUMMARY:Räto Harder & Hansrudolf Twerenbold
DESCRIPTION:Vor einem guten Jahr starb Peter Bichsel kurz vor seinem 90sten
  Geburtstag. Er hinterlässt ein unvergessliches Werk\, das als Bücherfes
 t-Schlusspunkt etwas aufblitzen lässt: Hans-Rudolf Twerenbold liest Bichs
 els Texte\, Räto Harder hat dazu die passende Musik komponiert und spielt
  Saxophon. 
LOCATION:Kantonsbibliothek Thurgau\, Promenadenstrasse 12\, 8500 Frauenfeld
DTSTART;TZID=Europe/Zurich:20260531T140000
DTEND;TZID=Europe/Zurich:20260531T150000
ORGANIZER:Lesefeld - Lesungen in und um Frauenfeld
END:VEVENT
END:VCALENDAR
