BEGIN:VCALENDAR
VERSION:2.0
PRODID:-//Sabre//Sabre VObject 4.5.8//EN
CALSCALE:GREGORIAN
BEGIN:VEVENT
UID:sabre-vobject-9aa72b45-66bd-42b1-9cdf-ba370f9f261d
DTSTAMP:20260425T000553Z
SUMMARY:Mama Jefferson\, Powerrock Trio aus Zürich
DESCRIPTION:
LOCATION:Stadtkaserne Frauenfeld\, Bahnhofplatz 78\, 8500 Frauenfeld
DTSTART;TZID=Europe/Zurich:20260509T200000
DTEND;TZID=Europe/Zurich:20260510T000000
ORGANIZER:Brudersounds in der Kaserne
END:VEVENT
END:VCALENDAR
