BEGIN:VCALENDAR
VERSION:2.0
PRODID:-//Sabre//Sabre VObject 4.5.8//EN
CALSCALE:GREGORIAN
BEGIN:VEVENT
UID:sabre-vobject-5bf4f1e9-8754-4c94-bf24-1c64a7fea9cf
DTSTAMP:20260423T130101Z
SUMMARY:Frauen-Kunst-Club: Zwischen Bildern und Bäumen
DESCRIPTION:Der Wald ist seit jeher ein wichtiger Ort für die Menschen. Al
 s Sehnsuchtsort\, Schutzraum oder Rohstofflieferant birgt der Wald vielsch
 ichtige Bedeutungen. Ein Themenfeld\, welches auch Kunstschaffende inspiri
 ert hat. In der Kunst wird deutlich\, wie eng das Bild des Waldes mit den 
 Vorstellungen und Haltungen einer Gesellschaft verknüpft ist.\\n\\nIm ers
 ten Teil der Veranstaltung gibt Marlén Gubsch als Forstwirtin Einblicke i
 n ihre Perspektive auf die Walddarstellungen in der Ausstellung. In einem 
 zweiten Teil wird sie mit den Teilnehmenden als Waldtherapeutin den umlieg
 enden Ittinger Wald erkunden: Die Teilnehmenden schärfen ihre Wahrnehmung
  für seine Strukturen\, Erscheinungsformen und Vielfalt\, entdecken sowoh
 l Verborgenes als auch Offensichtliches und begegnen zugleich sich selbst 
 auf eine lebendige und unmittelbare Art. Im gemeinsamen Austausch lassen d
 ie Teilnehmenden das Erlebte nachklingen und teilen Eindrücke zu Wald\, K
 unst und persönlichen Erfahrungen.\\n\\nEs wird darum gebeten\, dem Wette
 r entsprechende Kleidung und Schuhe zu tragen.
LOCATION:Kunstmuseum Thurgau\, Kartause Ittingen\, 8532 Warth
DTSTART;TZID=Europe/Zurich:20260602T190000
DTEND;TZID=Europe/Zurich:20260602T210000
ORGANIZER:Kunstmuseum Thurgau
END:VEVENT
END:VCALENDAR
