BEGIN:VCALENDAR
VERSION:2.0
PRODID:-//Sabre//Sabre VObject 4.5.8//EN
CALSCALE:GREGORIAN
BEGIN:VEVENT
UID:sabre-vobject-dc6b5d2e-8b71-41cb-95c9-daff0d1fcad4
DTSTAMP:20260425T000552Z
SUMMARY:Frauenfeld als Hauptstadt der Eidgenossenschaft
DESCRIPTION:Die Tagsatzung war das wichtigste Gremium der Alten Eidgenossen
 schaft: Dort trafen sich bis 1798 bevollmächtigte Boten der dreizehn eidg
 enössischen Orte und berieten über gemeinsame Geschäfte. Das konnten di
 e Beziehungen zu Frankreich oder zum deutschen Reich\, das Söldnerwesen o
 der Münzangelegenheiten sein. In den Verhandlungen des 18. Jahrhunderts g
 eht es etwa um das Ringen der Eidgenossenschaft um Neutralität in den dam
 aligen Kriegen oder um Zollstreitigkeiten mit dem Reich.\nFür das Gebiet 
 des heutigen Thurgaus gibt der Bestand viele wichtige und interessante Inf
 ormationen\, auch zu einzelnen Personen oder Orten und Gemeinden. \nIm 18
 . Jahrhundert tagte das Gremium in Frauenfeld\, womit die Stadt für kurze
  Zeit zu einem "Hauptort" der Alten Eidgenossenschaft wurde. Die Dokumente
  aus dieser Zeit liegen bis heute im Staatsarchiv Thurgau und wurden neu f
 ür die Öffentlichkeit zugänglich gemacht.\nIn der Ausstellung werden ve
 rschiedene Aktentypen aus dem Bestand gezeigt und erläutert. Anhand eines
  spannenden Fallbeispiels wird erklärt\, wie die Tagsatzung organisiert w
 ar und wie die Verhandlungen abliefen. Eine Gratisbroschüre liegt auf und
  gibt weiterführende Informationen und Hinweise zu möglichen Recherchen.
 \nBei kurzen Führungen bekommt man Hintergrundinformationen. Sonderführu
 ngen für Gruppen oder Schulklassen sind auf Anfrage möglich. 
LOCATION:Staatsarchiv Thurgau\, Zürcherstrasse 221\, 8510 Frauenfeld
DTSTART;TZID=Europe/Zurich:20260604T100000
DTEND;TZID=Europe/Zurich:20260604T103000
ORGANIZER:Staatsarchiv des Kantons Thurgau
END:VEVENT
END:VCALENDAR
