BEGIN:VCALENDAR
VERSION:2.0
PRODID:-//Sabre//Sabre VObject 4.5.8//EN
CALSCALE:GREGORIAN
BEGIN:VEVENT
UID:sabre-vobject-4abbf3b2-49eb-4c44-8806-370788323ca8
DTSTAMP:20260425T014126Z
SUMMARY:Schwiizergoofe
DESCRIPTION:Die Schwiizergoofe starten mit einer ganz neuen Geschichte\, ih
 ren grössten Hits und einer riesigen Bühnenshow in die neue Saison. Die 
 Schwiizergoofe sind mit zahlreichen Platz-1-Platzierungen in der Hitparade
  bei den Familien das beliebteste Musikprojekt des Landes. Ihre Konzerte s
 ind Kinderparty\, Musical und Familienfest in einem. Knapp zwei Stunden zu
 m Mitsingen\, Mittanzen und Mitlachen für Klein und Gross.\nFür die jün
 geren Konzertbesucher gibt es auch auf der kommenden Tour einen VIP-Bereic
 h vor der Bühne mit genügend Platz zum Singen und Tanzen.\nTüröffnung:
  15:30 Uhr\\nBeginn: 16:00 Uhr\\nEnde: ca. 17:50 Uhr\\n\\nWichtiger Hinwei
 s: Es handelt sich um ein nicht nummeriertes Stehplatzkonzert. Um den Kind
 ern die Sicht nach vorne zu ermöglichen\, wird der Bereich in unmittelbar
 er Bühnennähe speziell für diese reserviert und entsprechend gekennzeic
 hnet.\nIm Eingangsbereich bieten wir Ihnen bei Bedarf kostenlos Ohropax an
 . Falls sie besonders empfindlich auf die Geräuschkulisse eines Konzerts 
 reagieren\, dürfen Sie als Unterstützung gerne einen zusätzlichen Gehö
 rschutz mitnehmen.\n 
LOCATION:Pentorama Amriswil\, Arbonerstrasse 4\, 8580 Amriswil
DTSTART;TZID=Europe/Zurich:20261122T160000
DTEND;TZID=Europe/Zurich:20261122T160000
ORGANIZER:See Ticket AG (AWIN)
END:VEVENT
END:VCALENDAR
